BEGIN:VCALENDAR
VERSION:2.0
PRODID:-//wp-events-plugin.com//7.2.3.1//EN
TZID:Asia/Tokyo
X-WR-TIMEZONE:Asia/Tokyo
BEGIN:VEVENT
UID:310@kiyuuchikai.com
DTSTART;TZID=Asia/Tokyo;VALUE=DATE:20241105
DTEND;TZID=Asia/Tokyo;VALUE=DATE:20241106
DTSTAMP:20241112T101835Z
URL:https://kiyuuchikai.com/events/%e2%96%b3-34
SUMMARY:△
DESCRIPTION:
END:VEVENT
BEGIN:VTIMEZONE
TZID:Asia/Tokyo
X-LIC-LOCATION:Asia/Tokyo
BEGIN:STANDARD
DTSTART:20231106T000000
TZOFFSETFROM:+0900
TZOFFSETTO:+0900
TZNAME:JST
END:STANDARD
END:VTIMEZONE
END:VCALENDAR