BEGIN:VCALENDAR
VERSION:2.0
PRODID:-//wp-events-plugin.com//7.2.3.1//EN
TZID:Asia/Tokyo
X-WR-TIMEZONE:Asia/Tokyo
BEGIN:VEVENT
UID:218@kiyuuchikai.com
DTSTART;TZID=Asia/Tokyo;VALUE=DATE:20240813
DTEND;TZID=Asia/Tokyo;VALUE=DATE:20240814
DTSTAMP:20240729T113915Z
URL:https://kiyuuchikai.com/events/%e6%95%99%e5%ae%a4%e4%bc%91%e6%a5%ad%e6
 %97%a5-3
SUMMARY:教室休業日
DESCRIPTION:教室休業日
END:VEVENT
BEGIN:VTIMEZONE
TZID:Asia/Tokyo
X-LIC-LOCATION:Asia/Tokyo
BEGIN:STANDARD
DTSTART:20230814T000000
TZOFFSETFROM:+0900
TZOFFSETTO:+0900
TZNAME:JST
END:STANDARD
END:VTIMEZONE
END:VCALENDAR